BEGIN:VCALENDAR
VERSION:2.0
PRODID:-//Connect-Volt Wageningen - ECPv6.15.20//NONSGML v1.0//EN
CALSCALE:GREGORIAN
METHOD:PUBLISH
X-ORIGINAL-URL:https://connect-voltwageningen.nl
X-WR-CALDESC:Evenementen voor Connect-Volt Wageningen
REFRESH-INTERVAL;VALUE=DURATION:PT1H
X-Robots-Tag:noindex
X-PUBLISHED-TTL:PT1H
BEGIN:VTIMEZONE
TZID:UTC
BEGIN:STANDARD
TZOFFSETFROM:+0000
TZOFFSETTO:+0000
TZNAME:UTC
DTSTART:20240101T000000
END:STANDARD
END:VTIMEZONE
BEGIN:VEVENT
DTSTART;TZID=UTC:20260216T180000
DTEND;TZID=UTC:20260216T220000
DTSTAMP:20260425T192025
CREATED:20251221T110313Z
LAST-MODIFIED:20251221T110315Z
UID:571-1771264800-1771279200@connect-voltwageningen.nl
SUMMARY:Fractieoverleg Connect Wageningen
DESCRIPTION:Sluit je aan bij een fractieoverleg van Connect Wageningen!  \n\n\n\nConnect Wageningen heeft 2 zetels in de raad van Wageningen. Dat betekent dat er om de week een fractieoverleg plaatsvindt\, waar de onderwerpen voor de raadsvergadering intern besproken worden. Als Volt sluiten we hier bij aan. Zo kunnen we ervaring opdoen én de politiek dichter bij jou brengen. Wil je een keer meekijken? Dat kan! Laat het ons weten door een berichtje te sturen via onze contact pagina. Wij sturen je dan details over hoe je bij het juiste zaaltje komt en nemen contact met je op over het samen eten voorafgaand aan de vergadering. De overleggen starten om 18:00 met samen eten en duren tot ~21:00. \n\n\n\nKijk voor de onderwerpen en bijbehorende stukken van de eerstvolgende raadsvergadering op het raadsinformatiesysteem van de gemeente Wageningen:  \n\n\n\n \n\n\n\n\nBezoek Raadsinformatiesysteem Wageningen
URL:https://connect-voltwageningen.nl/event/fractieoverleg-connect-wageningen-10/
LOCATION:Gemeentehuis Wageningen\, Markt 22\, Wageningen\, 6701 CZ\, Netherlands
END:VEVENT
BEGIN:VEVENT
DTSTART;TZID=UTC:20260205T190000
DTEND;TZID=UTC:20260205T213000
DTSTAMP:20260425T192025
CREATED:20260201T095542Z
LAST-MODIFIED:20260201T095543Z
UID:637-1770318000-1770327000@connect-voltwageningen.nl
SUMMARY:Politiek café met Anna Strolenberg
DESCRIPTION:Tijdens deze avond in het historische Hotel de Wereld — de plek waar we vrede en vrijheid vieren — neemt Anna ons mee in haar verhaal. Hoe beïnvloedt Europese samenwerking ons dagelijks leven? En waarom is die verbinding essentieel om lokaal het verschil te kunnen maken? \n\n\n\nDeze avond vormt tevens de officiële start van de lokale politieke agenda van de lijst Connect-Volt Wageningen. We nodigen iedereen uit om te komen luisteren\, vragen te stellen en deel te nemen aan het gesprek over de waarden die onze toekomst vormgeven. \n\n\n\nZo’n event kost geld om te organiseren maar we willen iedereen een kans geven om deel te nemen. Daarom zijn er 4 verschillende kaartjes beschikbaar: Kostendekkend\, sponsor (betaal voor iemand anders)\, gratis en donatie (bepaal zelf jouw bijdrage). \n\n\n\nInloop is vanaf 19:00\, we beginnen om 19:30. \n\n\n\n\nReserveer je (gratis) ticket
URL:https://connect-voltwageningen.nl/event/politiek-cafe-met-anna-strolenberg/
LOCATION:Hotel de Wereld\, Wageningen\, 5 mei plein 1\, Wageningen
CATEGORIES:Events
ATTACH;FMTTYPE=image/jpeg:https://connect-voltwageningen.nl/wp-content/uploads/2026/02/WhatsApp-Image-2026-01-30-at-20.29.15.jpeg
END:VEVENT
BEGIN:VEVENT
DTSTART;TZID=UTC:20260202T180000
DTEND;TZID=UTC:20260202T220000
DTSTAMP:20260425T192025
CREATED:20251221T110207Z
LAST-MODIFIED:20251221T110208Z
UID:569-1770055200-1770069600@connect-voltwageningen.nl
SUMMARY:Fractieoverleg Connect Wageningen
DESCRIPTION:Sluit je aan bij een fractieoverleg van Connect Wageningen!  \n\n\n\nConnect Wageningen heeft 2 zetels in de raad van Wageningen. Dat betekent dat er om de week een fractieoverleg plaatsvindt\, waar de onderwerpen voor de raadsvergadering intern besproken worden. Als Volt sluiten we hier bij aan. Zo kunnen we ervaring opdoen én de politiek dichter bij jou brengen. Wil je een keer meekijken? Dat kan! Laat het ons weten door een berichtje te sturen via onze contact pagina. Wij sturen je dan details over hoe je bij het juiste zaaltje komt en nemen contact met je op over het samen eten voorafgaand aan de vergadering. De overleggen starten om 18:00 met samen eten en duren tot ~21:00. \n\n\n\nKijk voor de onderwerpen en bijbehorende stukken van de eerstvolgende raadsvergadering op het raadsinformatiesysteem van de gemeente Wageningen:  \n\n\n\n \n\n\n\n\nBezoek Raadsinformatiesysteem Wageningen
URL:https://connect-voltwageningen.nl/event/fractieoverleg-connect-wageningen-9/
LOCATION:Gemeentehuis Wageningen\, Markt 22\, Wageningen\, 6701 CZ\, Netherlands
END:VEVENT
BEGIN:VEVENT
DTSTART;TZID=UTC:20260119T180000
DTEND;TZID=UTC:20260119T220000
DTSTAMP:20260425T192025
CREATED:20251221T110103Z
LAST-MODIFIED:20251221T110105Z
UID:567-1768845600-1768860000@connect-voltwageningen.nl
SUMMARY:Fractieoverleg Connect Wageningen
DESCRIPTION:Sluit je aan bij een fractieoverleg van Connect Wageningen!  \n\n\n\nConnect Wageningen heeft 2 zetels in de raad van Wageningen. Dat betekent dat er om de week een fractieoverleg plaatsvindt\, waar de onderwerpen voor de raadsvergadering intern besproken worden. Als Volt sluiten we hier bij aan. Zo kunnen we ervaring opdoen én de politiek dichter bij jou brengen. Wil je een keer meekijken? Dat kan! Laat het ons weten door een berichtje te sturen via onze contact pagina. Wij sturen je dan details over hoe je bij het juiste zaaltje komt en nemen contact met je op over het samen eten voorafgaand aan de vergadering. De overleggen starten om 18:00 met samen eten en duren tot ~21:00. \n\n\n\nKijk voor de onderwerpen en bijbehorende stukken van de eerstvolgende raadsvergadering op het raadsinformatiesysteem van de gemeente Wageningen:  \n\n\n\n \n\n\n\n\nBezoek Raadsinformatiesysteem Wageningen
URL:https://connect-voltwageningen.nl/event/fractieoverleg-connect-wageningen-8/
LOCATION:Gemeentehuis Wageningen\, Markt 22\, Wageningen\, 6701 CZ\, Netherlands
END:VEVENT
BEGIN:VEVENT
DTSTART;TZID=UTC:20260117T120000
DTEND;TZID=UTC:20260117T170000
DTSTAMP:20260425T192025
CREATED:20251221T111637Z
LAST-MODIFIED:20251221T111648Z
UID:575-1768651200-1768669200@connect-voltwageningen.nl
SUMMARY:Leden bijeenkomst Wageningen
DESCRIPTION:Meer informatie volgt.
URL:https://connect-voltwageningen.nl/event/leden-bijeenkomst-wageningen/
END:VEVENT
BEGIN:VEVENT
DTSTART;TZID=UTC:20260105T180000
DTEND;TZID=UTC:20260105T220000
DTSTAMP:20260425T192025
CREATED:20251221T110012Z
LAST-MODIFIED:20251221T110013Z
UID:564-1767636000-1767650400@connect-voltwageningen.nl
SUMMARY:Fractieoverleg Connect Wageningen
DESCRIPTION:Sluit je aan bij een fractieoverleg van Connect Wageningen!  \n\n\n\nConnect Wageningen heeft 2 zetels in de raad van Wageningen. Dat betekent dat er om de week een fractieoverleg plaatsvindt\, waar de onderwerpen voor de raadsvergadering intern besproken worden. Als Volt sluiten we hier bij aan. Zo kunnen we ervaring opdoen én de politiek dichter bij jou brengen. Wil je een keer meekijken? Dat kan! Laat het ons weten door een berichtje te sturen via onze contact pagina. Wij sturen je dan details over hoe je bij het juiste zaaltje komt en nemen contact met je op over het samen eten voorafgaand aan de vergadering. De overleggen starten om 18:00 met samen eten en duren tot ~21:00. \n\n\n\nKijk voor de onderwerpen en bijbehorende stukken van de eerstvolgende raadsvergadering op het raadsinformatiesysteem van de gemeente Wageningen:  \n\n\n\n \n\n\n\n\nBezoek Raadsinformatiesysteem Wageningen
URL:https://connect-voltwageningen.nl/event/fractieoverleg-connect-wageningen-7/
LOCATION:Gemeentehuis Wageningen\, Markt 22\, Wageningen\, 6701 CZ\, Netherlands
END:VEVENT
BEGIN:VEVENT
DTSTART;TZID=UTC:20251201T180000
DTEND;TZID=UTC:20251201T210000
DTSTAMP:20260425T192025
CREATED:20251011T092754Z
LAST-MODIFIED:20251221T121603Z
UID:560-1764612000-1764622800@connect-voltwageningen.nl
SUMMARY:Fractieoverleg Connect Wageningen
DESCRIPTION:Sluit je aan bij een fractieoverleg van Connect Wageningen!  \n\n\n\nConnect Wageningen heeft 2 zetels in de raad van Wageningen. Dat betekent dat er om de week een fractieoverleg plaatsvindt\, waar de onderwerpen voor de raadsvergadering intern besproken worden. Als Volt sluiten we hier bij aan. Zo kunnen we ervaring opdoen én de politiek dichter bij jou brengen. Wil je een keer meekijken? Dat kan! Laat het ons weten door een berichtje te sturen via onze contact pagina. Wij sturen je dan details over hoe je bij het juiste zaaltje komt en nemen contact met je op over het samen eten voorafgaand aan de vergadering. De overleggen starten om 18:00 met samen eten en duren tot ~21:00. \n\n\n\nKijk voor de onderwerpen en bijbehorende stukken van de eerstvolgende raadsvergadering op het raadsinformatiesysteem van de gemeente Wageningen:  \n\n\n\n \n\n\n\n\nBezoek Raadsinformatiesysteem Wageningen
URL:https://connect-voltwageningen.nl/event/fractieoverleg-connect-wageningen-6/
LOCATION:Gemeentehuis Wageningen\, Markt 22\, Wageningen\, 6701 CZ\, Netherlands
END:VEVENT
BEGIN:VEVENT
DTSTART;TZID=UTC:20251117T180000
DTEND;TZID=UTC:20251117T210000
DTSTAMP:20260425T192025
CREATED:20251011T092710Z
LAST-MODIFIED:20251011T092711Z
UID:558-1763402400-1763413200@connect-voltwageningen.nl
SUMMARY:Fractieoverleg Connect Wageningen
DESCRIPTION:Sluit je aan bij een fractieoverleg van Connect Wageningen!  \n\n\n\nConnect Wageningen heeft 2 zetels in de raad van Wageningen. Dat betekent dat er om de week een fractieoverleg plaatsvindt\, waar de onderwerpen voor de raadsvergadering intern besproken worden. Als Volt sluiten we hier bij aan. Zo kunnen we ervaring opdoen én de politiek dichter bij jou brengen. Wil je een keer meekijken? Dat kan! Laat het ons weten door een berichtje te sturen via onze contact pagina. Wij sturen je dan details over hoe je bij het juiste zaaltje komt en nemen contact met je op over het samen eten voorafgaand aan de vergadering. De overleggen starten om 18:00 met samen eten en duren tot ~21:00. \n\n\n\nKijk voor de onderwerpen en bijbehorende stukken van de eerstvolgende raadsvergadering op het raadsinformatiesysteem van de gemeente Wageningen:  \n\n\n\n \n\n\n\n\nBezoek Raadsinformatiesysteem Wageningen
URL:https://connect-voltwageningen.nl/event/fractieoverleg-connect-wageningen-5/
LOCATION:Gemeentehuis Wageningen\, Markt 22\, Wageningen\, 6701 CZ\, Netherlands
END:VEVENT
BEGIN:VEVENT
DTSTART;TZID=UTC:20251103T180000
DTEND;TZID=UTC:20251103T210000
DTSTAMP:20260425T192025
CREATED:20251011T092625Z
LAST-MODIFIED:20251011T092627Z
UID:556-1762192800-1762203600@connect-voltwageningen.nl
SUMMARY:Fractieoverleg Connect Wageningen
DESCRIPTION:Sluit je aan bij een fractieoverleg van Connect Wageningen!  \n\n\n\nConnect Wageningen heeft 2 zetels in de raad van Wageningen. Dat betekent dat er om de week een fractieoverleg plaatsvindt\, waar de onderwerpen voor de raadsvergadering intern besproken worden. Als Volt sluiten we hier bij aan. Zo kunnen we ervaring opdoen én de politiek dichter bij jou brengen. Wil je een keer meekijken? Dat kan! Laat het ons weten door een berichtje te sturen via onze contact pagina. Wij sturen je dan details over hoe je bij het juiste zaaltje komt en nemen contact met je op over het samen eten voorafgaand aan de vergadering. De overleggen starten om 18:00 met samen eten en duren tot ~21:00. \n\n\n\nKijk voor de onderwerpen en bijbehorende stukken van de eerstvolgende raadsvergadering op het raadsinformatiesysteem van de gemeente Wageningen:  \n\n\n\n \n\n\n\n\nBezoek Raadsinformatiesysteem Wageningen
URL:https://connect-voltwageningen.nl/event/fractieoverleg-connect-wageningen-4/
LOCATION:Gemeentehuis Wageningen\, Markt 22\, Wageningen\, 6701 CZ\, Netherlands
END:VEVENT
BEGIN:VEVENT
DTSTART;TZID=UTC:20251020T180000
DTEND;TZID=UTC:20251020T210000
DTSTAMP:20260425T192025
CREATED:20251011T092520Z
LAST-MODIFIED:20251011T092825Z
UID:553-1760983200-1760994000@connect-voltwageningen.nl
SUMMARY:Fractieoverleg Connect Wageningen
DESCRIPTION:Sluit je aan bij een fractieoverleg van Connect Wageningen!  \n\n\n\nConnect Wageningen heeft 2 zetels in de raad van Wageningen. Dat betekent dat er om de week een fractieoverleg plaatsvindt\, waar de onderwerpen voor de raadsvergadering intern besproken worden. Als Volt sluiten we hier bij aan. Zo kunnen we ervaring opdoen én de politiek dichter bij jou brengen. Wil je een keer meekijken? Dat kan! Laat het ons weten door een berichtje te sturen via onze contact pagina. Wij sturen je dan details over hoe je bij het juiste zaaltje komt en nemen contact met je op over het samen eten voorafgaand aan de vergadering. De overleggen starten om 18:00 met samen eten en duren tot ~21:00. \n\n\n\nKijk voor de onderwerpen en bijbehorende stukken van de eerstvolgende raadsvergadering op het raadsinformatiesysteem van de gemeente Wageningen:  \n\n\n\n \n\n\n\n\nBezoek Raadsinformatiesysteem Wageningen
URL:https://connect-voltwageningen.nl/event/fractieoverleg-connect-wageningen-3/
LOCATION:Gemeentehuis Wageningen\, Markt 22\, Wageningen\, 6701 CZ\, Netherlands
END:VEVENT
BEGIN:VEVENT
DTSTART;TZID=UTC:20251011T130000
DTEND;TZID=UTC:20251011T173000
DTSTAMP:20260425T192025
CREATED:20250916T125329Z
LAST-MODIFIED:20251011T091557Z
UID:538-1760187600-1760203800@connect-voltwageningen.nl
SUMMARY:In gesprek: verkiezingsprogramma 2026-2030
DESCRIPTION:Samen maken we de toekomst van Wageningen\n\n\n\nOp zaterdag 11 oktober van 13:30 tot 17:15 (inloop vanaf 13:00) nodigen we jou uit voor een inspirerende middag waarin we samen in gesprek gaan over ons concept verkiezingsprogramma voor 2026–2030. Dit is hét moment om jouw stem te laten horen\, ideeën te delen en mee te bouwen aan een toekomstbestendig Wageningen. \n\n\n\nOf je nu inwoner bent\, jongere met een frisse blik\, actief in een vereniging\, expert op een specifiek thema\, of betrokken lid van Connect of Volt - jouw perspectief telt. We geloven dat een sterk programma ontstaat door samenwerking\, dialoog en het bundelen van kennis en ervaringen. \n\n\n\nTijdens deze interactieve sessie gaan we in in meerdere groepen in gesprek met elkaar. Elke sessie gaat over één hoofdstuk. Kan je maar bij een deel van de sessies aanwezig zijn? Dat is geen probleem! Kijk in de planning hieronder en bij vragen\, stuur een mail naar stef.dewarle@volteuropa.org. De planning is flexibel\, suggesties zijn welkom. \n\n\n\nOm een beeld te krijgen hoeveel personen er komen vragen wij je om je aan te melden. Je mag ook zonder aanmelden naar de activiteit komen. \n\n\n\n\nAanmelden bijeenkomst &ontvangen concept-programma\n\n\n\n\nPlanning \n\n\n\nSessie 1Sessie 2Sessie 313:00-13:30 inloop + kennismaken13:30-13:45introductie13:45-14:15Jongeren en toekomstige generatiesOnderwijsWageningen en Europa14:15-14:45Genoeg goede woningenVeiligheidVrije keuze14:45-15:15Energie en KlimaatCultuur\, sport en recreatieVrije keuze15:15-15:45Aantrekkelijke en gezonde omgevingEen slimme gemeenteRuimte voor visie\, vernieuwing en verbinding15:45-16:15Welvaart en gezondheidMigratie en integratieVrije keuze16:15-16:45Lokale EconomieInclusie en diversiteitVrije keuze16:45-17:15BereikbaarheidBetere democratieVrije keuze
URL:https://connect-voltwageningen.nl/event/in-gesprek-verkiezingsprogramma-2026-2030/
LOCATION:Thuis Wageningen\, Stationsstraat 32\, Wageningen\, 6701AM\, Netherlands
ATTACH;FMTTYPE=image/png:https://connect-voltwageningen.nl/wp-content/uploads/2025/08/02-Secondary-Logo-scaled.png
END:VEVENT
BEGIN:VEVENT
DTSTART;TZID=UTC:20251002T193000
DTEND;TZID=UTC:20251002T220000
DTSTAMP:20260425T192025
CREATED:20250903T121744Z
LAST-MODIFIED:20250903T122402Z
UID:509-1759433400-1759442400@connect-voltwageningen.nl
SUMMARY:Start cursus 'politiek actief'
DESCRIPTION:Wil jij weten hoe de politiek in Wageningen écht werkt? Ben je benieuwd hoe jij als inwoner invloed kunt uitoefenen op beslissingen in jouw stad? Of droom je ervan om zelf actief te worden in de gemeenteraad? \n\n\n\nDan is de cursus Politiek Actief iets voor jou! \n\n\n\nIn vijf inspirerende bijeenkomsten leer je alles over: \n\n\n\n\nHoe onze democratie in elkaar zit en wie waarover beslist\n\n\n\nDe rol en bevoegdheden van de gemeenteraad en het college van B&W\n\n\n\nHoe jij zelf een actieve bijdrage kunt leveren aan de lokale politiek\n\n\n\nDebatteren en overtuigend presenteren\n\n\n\nDe gemeentelijke financiën én hoe besluiten tot stand komen\n\n\n\n\nJe ontmoet lokale politici\, krijgt les van gastdocenten en wisselt ervaringen uit met andere betrokken inwoners. Theorie en praktijk wisselen elkaar af\, zodat je direct aan de slag kunt met je nieuwe kennis en vaardigheden. \n\n\n\n📅 Wanneer \n\n\n\n\n2 oktober 2025 – Kennismaking & staatsinrichting\n\n\n\n9 oktober 2025 – De gemeenteraad\n\n\n\n16 oktober 2025 – De gemeente\n\n\n\n6 november 2025 – Debattraining\n\n\n\n11 november 2025 – Financiën & bezoek raadsvergadering\n\n\n\n\n🕒 Tijd: 19.30 – 22.00 uur📍 Locatie: Stadhuis Wageningen💰 Kosten: Gratis (wel verwachten we dat je minimaal 4 van de 5 bijeenkomsten aanwezig bent) \n\n\n\nMeld je nu aan en ontdek hoe jij het verschil kunt maken in Wageningen!📧 Aanmelden of vragen? Mail naar: raadsgriffie@wageningen.nl \n\n\n\n\nMeer informatie
URL:https://connect-voltwageningen.nl/event/start-cursus-politiek-actief/
ATTACH;FMTTYPE=image/jpeg:https://connect-voltwageningen.nl/wp-content/uploads/2025/08/Gemeenteraad-1536x1024-1.jpg
END:VEVENT
BEGIN:VEVENT
DTSTART;TZID=UTC:20250930T200000
DTEND;TZID=UTC:20250930T220000
DTSTAMP:20260425T192025
CREATED:20250905T084004Z
LAST-MODIFIED:20250905T084123Z
UID:525-1759262400-1759269600@connect-voltwageningen.nl
SUMMARY:Aftrapbijeenkomst Connect-Volt Wageningen
DESCRIPTION:Samen de toekomst in – vier het met ons!\n\n\n\nOp 30 september vanaf 20:00 heffen we het glas bij Kater&Co in Wageningen. Waarom? Omdat Connect Wageningen en Volt de handen ineenslaan voor de komende gemeenteraadsverkiezingen – en dat mag gevierd worden! \n\n\n\nVerwacht een avond vol goede gesprekken\, nieuwe ontmoetingen en een flinke dosis positieve energie. Of je nu al betrokken bent bij lokale politiek\, nieuwsgierig bent naar onze plannen\, of gewoon zin hebt in een gezellige borrel: je bent van harte welkom. \n\n\n\nWaar: Kater&Co\, Wageningen  \n\n\n\nWanneer: 30 september\, vanaf 20:00 \n\n\n\nKom proosten op samenwerking\, vernieuwing en een sterke toekomst voor Wageningen. Samen maken we het verschil – tot dan!
URL:https://connect-voltwageningen.nl/event/aftrapbijeenkomst-connect-volt-wageningen/
LOCATION:Kater&Co\, Markt 8\, Wageningen\, Gelderland\, 6701CZ\, Netherlands
CATEGORIES:Events
ATTACH;FMTTYPE=image/jpeg:https://connect-voltwageningen.nl/wp-content/uploads/2025/09/4348.jpg
END:VEVENT
BEGIN:VEVENT
DTSTART;TZID=UTC:20250929T180000
DTEND;TZID=UTC:20250929T210000
DTSTAMP:20260425T192025
CREATED:20250914T102009Z
LAST-MODIFIED:20250914T102010Z
UID:531-1759168800-1759179600@connect-voltwageningen.nl
SUMMARY:Fractieoverleg Connect Wageningen
DESCRIPTION:Sluit je aan bij een fractieoverleg van Connect Wageningen! \n\n\n\nConnect Wageningen heeft 2 zetels in de raad van Wageningen. Dat betekent dat er om de week een fractieoverleg plaatsvindt\, waar de onderwerpen voor de raadsvergadering intern besproken worden. Als Volt sluiten we hier bij aan. Zo kunnen we ervaring opdoen én de politiek dichter bij jou brengen. Wil je een keer meekijken? Dat kan! Laat het ons weten door een berichtje te sturen via onze contact pagina. Wij sturen je dan details over hoe je bij het juiste zaaltje komt en nemen contact met je op over het samen eten voorafgaand aan de vergadering. De overleggen starten om 18:00 met samen eten en duren tot ~21:00. \n\n\n\nKijk voor de onderwerpen en bijbehorende stukken van de eerstvolgende raadsvergadering op het raadsinformatiesysteem van de gemeente Wageningen:  \n\n\n\n \n\n\n\n\nBezoek Raadsinformatiesysteem Wageningen
URL:https://connect-voltwageningen.nl/event/fractieoverleg-connect-wageningen-2/
LOCATION:Gemeentehuis Wageningen\, Markt 22\, Wageningen\, 6701 CZ\, Netherlands
ATTACH;FMTTYPE=image/jpeg:https://connect-voltwageningen.nl/wp-content/uploads/2025/08/Raadsvergadering-klein.jpg
ORGANIZER;CN="Connect Wageningen":MAILTO:contact@connect-voltwageningen.nl
END:VEVENT
BEGIN:VEVENT
DTSTART;TZID=UTC:20250916T200000
DTEND;TZID=UTC:20250916T230000
DTSTAMP:20260425T192025
CREATED:20250821T125836Z
LAST-MODIFIED:20250822T090631Z
UID:399-1758052800-1758063600@connect-voltwageningen.nl
SUMMARY:Violet Pubquiz
DESCRIPTION:Violet is het jongerennetwerk van Volt dat een veilige\, drempelloze en inclusieve omgeving biedt\, waar jongeren elkaar kunnen ontmoeten\, ervaringen kunnen uitwisselen en kennis kunnen maken met de partij. Afgelopen januari organiseerde Volt Foodvalley samen met Violet een borrel. Dit was een groot succes en daarom organiseren wij in september samen een pubquiz.  Ben je (ongeveer) 26 jaar of jonger en ben je lid van Volt of wil je dat worden? Kom dan gezellig langs en wie weet win je een mooie prijs! \n\n\n\n\nAanmelden voor de pubquiz
URL:https://connect-voltwageningen.nl/event/violet-pubquiz/
LOCATION:Heerenstraat Theater Wageningen\, Molenstraat 1B\, Wageningen\, 6701 DM\, Netherlands
CATEGORIES:Events
END:VEVENT
BEGIN:VEVENT
DTSTART;TZID=UTC:20250915T160000
DTEND;TZID=UTC:20250915T190000
DTSTAMP:20260425T192025
CREATED:20250913T180042Z
LAST-MODIFIED:20250914T103011Z
UID:373-1757952000-1757962800@connect-voltwageningen.nl
SUMMARY:Fractieoverleg Connect Wageningen
DESCRIPTION:Sluit je aan bij een fractieoverleg van Connect Wageningen! \nConnect Wageningen heeft 2 zetels in de raad van Wageningen. Dat betekent dat er om de week een fractieoverleg plaatsvindt\, waar de onderwerpen voor de raadsvergadering intern besproken worden. Als Volt sluiten we hier bij aan. Zo kunnen we ervaring opdoen én de politiek dichter bij jou brengen. Wil je een keer meekijken? Dat kan! Laat het ons weten door een berichtje te sturen via onze contact pagina. Wij sturen je dan details over hoe je bij het juiste zaaltje komt en nemen contact met je op over het samen eten voorafgaand aan de vergadering. De overleggen starten om 18:00 met samen eten en duren tot ~21:00. \nKijk voor de onderwerpen en bijbehorende stukken van de eerstvolgende raadsvergadering op het raadsinformatiesysteem van de gemeente Wageningen:  \n\n\n\nBezoek Raadsinformatiesysteem Wageningen
URL:https://connect-voltwageningen.nl/event/fractieoverleg-connect-wageningen/
LOCATION:Stadhuis Wageningen\, Markt 22\, Wageningen\, 6701 CZ\, Netherlands
CATEGORIES:Fractievergadering
ATTACH;FMTTYPE=image/jpeg:https://connect-voltwageningen.nl/wp-content/uploads/2025/08/Gemeenteraad-1536x1024-1.jpg
ORGANIZER;CN="Connect Wageningen":MAILTO:contact@connect-voltwageningen.nl
END:VEVENT
BEGIN:VEVENT
DTSTART;TZID=UTC:20250904T193000
DTEND;TZID=UTC:20250904T220000
DTSTAMP:20260425T192025
CREATED:20250825T093620Z
LAST-MODIFIED:20250825T094923Z
UID:478-1757014200-1757023200@connect-voltwageningen.nl
SUMMARY:Volt Gelderland Campagne Kick-off
DESCRIPTION:Alle Gelderse lijsttrekkers voor de gemeenteraadsverkiezingen\, alle Gelderse Tweede Kamerkandidaten én nr. 3 & nr. 4 van de landelijke lijst zijn erbij. Deze avond wil je niet missen! \n\n\n\n🗓️ Donderdag 4 september 2025 \n\n\n\n📍 Posttheater\, Arnhem | ⏰ Inloop: 19:30 | Start: 20:00 \n\n\n\nKom vooral met het OV\, dat is duurzaam! Dan houden we de beperkte parkeergelegenheid beschikbaar voor iedereen voor wie OV geen optie is. \n\n\n\nWe maken ons op voor twee grote verkiezingen: \n\n\n\n🗳️ Tweede Kamer – 29 okt 2025 \n\n\n\n🗳️ Gemeenteraad – 18 mrt 2026 \n\n\n\nKom langs voor: \n\n\n\n✅ De campagneplanning & doelen \n\n\n\n✅ Update over onze verkiezingsprogramma’s \n\n\n\n✅ Uitleg van Volt’s thema’s & speerpunten \n\n\n\n✅ Kennismaking met lijsttrekkers & campagneleads \n\n\n\n✅ Campagnematerialen ophalen (flyers\, posters\, vlaggen) \n\n\n\n✅ Informeel bijpraten & ideeën uitwisselen \n\n\n\n💬 Nieuwsgierig\, gemotiveerd of gewoon zin in een leuke avond met impact? \n\n\n\nKom langs – en neem iemand mee! \n\n\n\n\nMeer info
URL:https://connect-voltwageningen.nl/event/volt-gelderland-campagne-kick-off/
LOCATION:Posttheater Arnhem\, Roosendaalsestraat 27\, Arnhem\, 6824 CA\, Netherlands
CATEGORIES:Events
ATTACH;FMTTYPE=image/jpeg:https://connect-voltwageningen.nl/wp-content/uploads/2025/08/bd05e4e5058d3809f7c4ec799db12bda.jpg
END:VEVENT
END:VCALENDAR